BEGIN:VCALENDAR
VERSION:2.0
PRODID:-//IMKERHOF SALZBURG - ECPv6.15.18//NONSGML v1.0//EN
CALSCALE:GREGORIAN
METHOD:PUBLISH
X-WR-CALNAME:IMKERHOF SALZBURG
X-ORIGINAL-URL:https://imkerhof-salzburg.at
X-WR-CALDESC:Veranstaltungen für IMKERHOF SALZBURG
REFRESH-INTERVAL;VALUE=DURATION:PT1H
X-Robots-Tag:noindex
X-PUBLISHED-TTL:PT1H
BEGIN:VTIMEZONE
TZID:Europe/Vienna
BEGIN:DAYLIGHT
TZOFFSETFROM:+0100
TZOFFSETTO:+0200
TZNAME:CEST
DTSTART:20250330T010000
END:DAYLIGHT
BEGIN:STANDARD
TZOFFSETFROM:+0200
TZOFFSETTO:+0100
TZNAME:CET
DTSTART:20251026T010000
END:STANDARD
BEGIN:DAYLIGHT
TZOFFSETFROM:+0100
TZOFFSETTO:+0200
TZNAME:CEST
DTSTART:20260329T010000
END:DAYLIGHT
BEGIN:STANDARD
TZOFFSETFROM:+0200
TZOFFSETTO:+0100
TZNAME:CET
DTSTART:20261025T010000
END:STANDARD
BEGIN:DAYLIGHT
TZOFFSETFROM:+0100
TZOFFSETTO:+0200
TZNAME:CEST
DTSTART:20270328T010000
END:DAYLIGHT
BEGIN:STANDARD
TZOFFSETFROM:+0200
TZOFFSETTO:+0100
TZNAME:CET
DTSTART:20271031T010000
END:STANDARD
END:VTIMEZONE
BEGIN:VEVENT
DTSTART;TZID=Europe/Vienna:20260503T110000
DTEND;TZID=Europe/Vienna:20260503T180000
DTSTAMP:20260423T103115
CREATED:20260112T124749Z
LAST-MODIFIED:20260112T125245Z
UID:5934-1777806000-1777831200@imkerhof-salzburg.at
SUMMARY:Einladung 125 Jahre Imkerverein St. Johann und Imkerwallfahrt 2026
DESCRIPTION:Der Salzburger Landesverband sowie der Imkerverein St. Johann im Pongau laden herzlich zur Imkerwallfahrt sowie zur Feier des 125-jährigen Bestehens des Imkervereins St. Johann im Pongau\, ein. \nAblauf:  \n11:00 Uhr Treffpunkt Hotel Hubertus \n11:30 Uhr Feldmesse vor der Hubertuskapelle \nab ca. 12:15 Uhr Ehrungen \nca. 12:30 Uhr Mittagessen und gemütliches Beisammensein mit Musik und Tanz \nDer Imkerverein St. Johann und die Gauobfrau des Pongau\, freuen sich auf zahlreiche Teilnahme! \nEinladung zum downloaden: Einladung (PDF) \n  \nUm Anmeldung wird gebeten! \n 
URL:https://imkerhof-salzburg.at/event/einladung-125-jahre-imkerverein-st-johann-und-imkerwallfahrt-2026/
LOCATION:Hotel Hubertus\, Wieshofgasse 2\, St. Johann im Pongau\, Salzburg\, 5600
ATTACH;FMTTYPE=image/jpeg:https://imkerhof-salzburg.at/wp-content/uploads/2026/01/125-Jahre-St.-Johann-und-Imkerwallfahrt-2026.jpg
ORGANIZER;CN="Landesverband Salzburg - Bezirk Pongau":MAILTO:elke.kollmann@imkerhof-salzburg.at
END:VEVENT
BEGIN:VEVENT
DTSTART;TZID=Europe/Vienna:20260704T080000
DTEND;TZID=Europe/Vienna:20260704T150000
DTSTAMP:20260423T103115
CREATED:20251127T103715Z
LAST-MODIFIED:20251127T103715Z
UID:5542-1783152000-1783177200@imkerhof-salzburg.at
SUMMARY:Königinnenmarkt 2026
DESCRIPTION:Details folgen.
URL:https://imkerhof-salzburg.at/event/koeniginnenmarkt-2026/
LOCATION:Imkerhof Salzburg\, Wolfgangseestraße 108\, Koppl\, Salzburg\, 5321\, Österreich
ORGANIZER;CN="Salzburger Imkergenossenschaft eGen":MAILTO:info@imkerhof-salzburg.at
END:VEVENT
BEGIN:VEVENT
DTSTART;TZID=Europe/Vienna:20261024T080000
DTEND;TZID=Europe/Vienna:20261024T170000
DTSTAMP:20260423T103115
CREATED:20251127T104148Z
LAST-MODIFIED:20260413T131748Z
UID:5548-1792828800-1792861200@imkerhof-salzburg.at
SUMMARY:Gauversammlung Pongau 2026
DESCRIPTION:Detail folgen.
URL:https://imkerhof-salzburg.at/event/gauversammlung-pongau-2026/
LOCATION:Salzburg
ORGANIZER;CN="Landesverband Salzburg - Bezirk Pongau":MAILTO:elke.kollmann@imkerhof-salzburg.at
END:VEVENT
BEGIN:VEVENT
DTSTART;TZID=Europe/Vienna:20261024T080000
DTEND;TZID=Europe/Vienna:20261024T170000
DTSTAMP:20260423T103115
CREATED:20251127T104900Z
LAST-MODIFIED:20260413T131942Z
UID:5552-1792828800-1792861200@imkerhof-salzburg.at
SUMMARY:Imkerfachtagung Pongau 2026
DESCRIPTION:
URL:https://imkerhof-salzburg.at/event/imkerfachtagung-pongau-2026/
LOCATION:Salzburg
ORGANIZER;CN="Landesverband Salzburg - Bezirk Pongau":MAILTO:elke.kollmann@imkerhof-salzburg.at
END:VEVENT
BEGIN:VEVENT
DTSTART;TZID=Europe/Vienna:20261114T083000
DTEND;TZID=Europe/Vienna:20261114T130000
DTSTAMP:20260423T103115
CREATED:20251127T103927Z
LAST-MODIFIED:20251127T103927Z
UID:5545-1794645000-1794661200@imkerhof-salzburg.at
SUMMARY:Imkeradvent am Imkerhof
DESCRIPTION:Details folgen.
URL:https://imkerhof-salzburg.at/event/imkeradvent-am-imkerhof-2/
LOCATION:Imkerhof Salzburg\, Wolfgangseestraße 108\, Koppl\, Salzburg\, 5321\, Österreich
ORGANIZER;CN="Salzburger Imkergenossenschaft eGen":MAILTO:info@imkerhof-salzburg.at
END:VEVENT
END:VCALENDAR